BEGIN:VCALENDAR
PRODID:-//PUBBLE//agenda//NL
VERSION:2.0
METHOD:PUBLISH
BEGIN:VEVENT
DTSTART:20260311T085142Z
DTEND:20260419T150000Z
DTSTAMP:20260419T122711Z
UID:628acc8f-e2b8-4712-b4e0-5f2d61555ea6
CREATED:20260419T122711Z
NAME:Gezellige Voorjaarsmarkt bij Maargies Hoeve: 90 kramen, livemuziek, kinderactiviteiten en gratis entree brugmediasport.nl
X-WR-CALNAME:Gezellige Voorjaarsmarkt bij Maargies Hoeve: 90 kramen, livemuziek, kinderactiviteiten en gratis entree
X-ALT-DESC;FMTTYPE=text/html:<a href='/agenda/2026/4/19/gezellige-voorjaarsmarkt-bij-maargies-hoeve-90-kramen-livemuziek-kinderactiviteiten-en-gratis-entree-357104'>/agenda/2026/4/19/gezellige-voorjaarsmarkt-bij-maargies-hoeve-90-kramen-livemuziek-kinderactiviteiten-en-gratis-entree-357104</a> || <p>KALLENKOTE - Op zondag 19 april is het weer zover: de sfeervolle Voorjaarsmarkt bij Maargies Hoeve. Een heerlijke dag uit voor jong en oud. Tussen 10.00 en 17.00 uur is er op het erf een bruisende markt met maar liefst zo’n 90 kramen vol mooie en afwisselende producten.&nbsp;</p><p>Bezoekers kunnen op hun gemak langs een gevarieerd aanbod van delicatessen, handgemaakte items, woonartikelen, kleding, verzorgingsproducten en verrassende voorjaarsvondsten. Of je nu iets leuks zoekt voor thuis, een origineel cadeautje wilt scoren of gewoon zin hebt in een gezellig dagje uit, er is voor iedereen wel wat.</p><p>Traptrekkerrijbewijs</p><p>Ook aan de jongste bezoekers is gedacht. Verspreid over het terrein worden diverse leuke (kinder)activiteiten georganiseerd, waardoor het een echt familie-uitje wordt. De kinderen kunnen hun traptrekkerrijbewijs halen en zich heerlijk uitleven bij de springkussens of in de XXL-zandbak. Ondertussen zorgen Klompen Mark en Krullen Kees met livemuziek voor extra sfeer en gezelligheid op het plein bij de openluchtkroeg van Maargies Hoeve.</p><p>Natuurlijk zijn ook de theeschenkerij en de boerderijwinkel geopend. Strijk neer voor een kop koffie of thee met iets lekkers, of neem wat mee naar huis om nog even na te genieten. De Maargies Hoeve begint bovendien met zelf ijs maken. Ook dat zal op de Voorjaarsmarkt te koop zijn.</p><p>Kortom: het belooft een prachtige, gezellige voorjaarsdag te worden. Iedereen is van harte welkom en de entree is gratis!</p><p><strong>Praktische informatie</strong></p><li>Zondag 19 april</li><li>10.00 – 17.00 uur</li><li>De Maargies Hoeve, Kallenkote 19, Kallenkote</li><li>Entree: gratis</li><p>Meer informatie is te vinden via de Facebookpagina van het evenement of via www.demaargieshoeve.nl&nbsp;</p>
DESCRIPTION:<a href='/agenda/2026/4/19/gezellige-voorjaarsmarkt-bij-maargies-hoeve-90-kramen-livemuziek-kinderactiviteiten-en-gratis-entree-357104'>/agenda/2026/4/19/gezellige-voorjaarsmarkt-bij-maargies-hoeve-90-kramen-livemuziek-kinderactiviteiten-en-gratis-entree-357104</a> || <p>KALLENKOTE - Op zondag 19 april is het weer zover: de sfeervolle Voorjaarsmarkt bij Maargies Hoeve. Een heerlijke dag uit voor jong en oud. Tussen 10.00 en 17.00 uur is er op het erf een bruisende markt met maar liefst zo’n 90 kramen vol mooie en afwisselende producten.&nbsp;</p><p>Bezoekers kunnen op hun gemak langs een gevarieerd aanbod van delicatessen, handgemaakte items, woonartikelen, kleding, verzorgingsproducten en verrassende voorjaarsvondsten. Of je nu iets leuks zoekt voor thuis, een origineel cadeautje wilt scoren of gewoon zin hebt in een gezellig dagje uit, er is voor iedereen wel wat.</p><p>Traptrekkerrijbewijs</p><p>Ook aan de jongste bezoekers is gedacht. Verspreid over het terrein worden diverse leuke (kinder)activiteiten georganiseerd, waardoor het een echt familie-uitje wordt. De kinderen kunnen hun traptrekkerrijbewijs halen en zich heerlijk uitleven bij de springkussens of in de XXL-zandbak. Ondertussen zorgen Klompen Mark en Krullen Kees met livemuziek voor extra sfeer en gezelligheid op het plein bij de openluchtkroeg van Maargies Hoeve.</p><p>Natuurlijk zijn ook de theeschenkerij en de boerderijwinkel geopend. Strijk neer voor een kop koffie of thee met iets lekkers, of neem wat mee naar huis om nog even na te genieten. De Maargies Hoeve begint bovendien met zelf ijs maken. Ook dat zal op de Voorjaarsmarkt te koop zijn.</p><p>Kortom: het belooft een prachtige, gezellige voorjaarsdag te worden. Iedereen is van harte welkom en de entree is gratis!</p><p><strong>Praktische informatie</strong></p><li>Zondag 19 april</li><li>10.00 – 17.00 uur</li><li>De Maargies Hoeve, Kallenkote 19, Kallenkote</li><li>Entree: gratis</li><p>Meer informatie is te vinden via de Facebookpagina van het evenement of via www.demaargieshoeve.nl&nbsp;</p>
LAST-MODIFIED:20260419T122711Z
LOCATION: Kallenkote, Maargies Hoeve | Kallenkote  19 Steenwijkerland
SEQUENCE:0
STATUS:CONFIRMED
SUMMARY:Gezellige Voorjaarsmarkt bij Maargies Hoeve: 90 kramen, livemuziek, kinderactiviteiten en gratis entree
TRANSP:OPAQUE
END:VEVENT
END:VCALENDAR
