BEGIN:VCALENDAR
PRODID:-//PUBBLE//agenda//NL
VERSION:2.0
METHOD:PUBLISH
BEGIN:VEVENT
DTSTART:20260224T160654Z
DTEND:20260224T170654Z
DTSTAMP:20260419T123227Z
UID:56519e94-181d-4e7d-9fd3-ce7a9f55fc84
CREATED:20260419T123227Z
NAME:Inschrijving voor de Stienwieker Lentetocht is geopend brugmediasport.nl
X-WR-CALNAME:Inschrijving voor de Stienwieker Lentetocht is geopend
X-ALT-DESC;FMTTYPE=text/html:<a href='/agenda/2026/4/19/inschrijving-voor-de-stienwieker-lentetocht-is-geopend-355821'>/agenda/2026/4/19/inschrijving-voor-de-stienwieker-lentetocht-is-geopend-355821</a> || <p>DE BULT - De vijfde wandeling van de Struners staat in de startblokken. Zondag 19 april 2026 kan deze wandeling gelopen worden. De start en finish is ditmaal bij Buitengoed Fredeshiem aan de Eiderberg 2, de Bult. De organisatie is in handen van de Struners.&nbsp;</p><p>Deze lentewandeling is bestemd voor alle wandelaars. De route heeft een afstand van 10 kilometer. Vooraf staat er een kop koffie of thee klaar met een lekker stukje gebak. Na de finish is er een verse soep om nog gezellig na te praten.</p><p>Starten kan tussen 10.00 en 12.00 uur. Inschrijven kan nu via knop ‘inschrijven’ op de website van de Struners, www.de-struners.jimdosite.com<br /><br /></p>
DESCRIPTION:<a href='/agenda/2026/4/19/inschrijving-voor-de-stienwieker-lentetocht-is-geopend-355821'>/agenda/2026/4/19/inschrijving-voor-de-stienwieker-lentetocht-is-geopend-355821</a> || <p>DE BULT - De vijfde wandeling van de Struners staat in de startblokken. Zondag 19 april 2026 kan deze wandeling gelopen worden. De start en finish is ditmaal bij Buitengoed Fredeshiem aan de Eiderberg 2, de Bult. De organisatie is in handen van de Struners.&nbsp;</p><p>Deze lentewandeling is bestemd voor alle wandelaars. De route heeft een afstand van 10 kilometer. Vooraf staat er een kop koffie of thee klaar met een lekker stukje gebak. Na de finish is er een verse soep om nog gezellig na te praten.</p><p>Starten kan tussen 10.00 en 12.00 uur. Inschrijven kan nu via knop ‘inschrijven’ op de website van de Struners, www.de-struners.jimdosite.com<br /><br /></p>
LAST-MODIFIED:20260419T123227Z
LOCATION: De Bult, Fredeshiem | Eiderberg 2 Steenwijkerland
SEQUENCE:0
STATUS:CONFIRMED
SUMMARY:Inschrijving voor de Stienwieker Lentetocht is geopend
TRANSP:OPAQUE
END:VEVENT
END:VCALENDAR
