BEGIN:VCALENDAR
PRODID:-//PUBBLE//agenda//NL
VERSION:2.0
METHOD:PUBLISH
BEGIN:VEVENT
DTSTART:20260216T074104Z
DTEND:20260222T100000Z
DTSTAMP:20260423T161758Z
UID:e918eb15-40ef-4803-8574-b0c3b22fd3ef
CREATED:20260423T161758Z
NAME:Peperbuswandeltocht brugmediasport.nl
X-WR-CALNAME:Peperbuswandeltocht
X-ALT-DESC;FMTTYPE=text/html:<a href='/agenda/2026/2/22/peperbuswandeltocht-355081'>/agenda/2026/2/22/peperbuswandeltocht-355081</a> || <p>Tijdens deze tweedaagse wandelactiviteit ontdekken de deelnemers &nbsp;Zwolle van binnen en van buiten, de historische binnenstad met haar grachten, monumenten en sfeervolle pleinen, maar ook de rust en schoonheid van de omliggende (winterse) buitengebieden. Voor de jeugd is een speurtocht georganiseerd. &nbsp;</p><p>Inschrijven kan op de startlocatie: Het Wandelhonk, Veemarkt 35. De vertrektijden zijn: 30 kilometer tussen 8.00 en 10.00 uur, 20 kilometer tussen 9.00 en 11.00 uur; 19 kilometer tussen 9.00 en 12.00 uur en de 5 en 10 kilometer tussen 9.00 en 13.00 uur.&nbsp;</p><p>Kijk voor meer informatie over, onder andere de speurtocht, op www.zwolle-wandel.nl. Meer info via info@zwolle-wandel.nl, 06 - 122 214 87 of 06 - 229 646 81.</p>
DESCRIPTION:<a href='/agenda/2026/2/22/peperbuswandeltocht-355081'>/agenda/2026/2/22/peperbuswandeltocht-355081</a> || <p>Tijdens deze tweedaagse wandelactiviteit ontdekken de deelnemers &nbsp;Zwolle van binnen en van buiten, de historische binnenstad met haar grachten, monumenten en sfeervolle pleinen, maar ook de rust en schoonheid van de omliggende (winterse) buitengebieden. Voor de jeugd is een speurtocht georganiseerd. &nbsp;</p><p>Inschrijven kan op de startlocatie: Het Wandelhonk, Veemarkt 35. De vertrektijden zijn: 30 kilometer tussen 8.00 en 10.00 uur, 20 kilometer tussen 9.00 en 11.00 uur; 19 kilometer tussen 9.00 en 12.00 uur en de 5 en 10 kilometer tussen 9.00 en 13.00 uur.&nbsp;</p><p>Kijk voor meer informatie over, onder andere de speurtocht, op www.zwolle-wandel.nl. Meer info via info@zwolle-wandel.nl, 06 - 122 214 87 of 06 - 229 646 81.</p>
LAST-MODIFIED:20260423T161758Z
LOCATION: Wandelhonk | Veemarkt 35 Zwolle
SEQUENCE:0
STATUS:CONFIRMED
SUMMARY:Peperbuswandeltocht
TRANSP:OPAQUE
END:VEVENT
END:VCALENDAR
